View In:
ArcGIS JavaScript
ArcGIS Online Map Viewer
ArcGIS Earth
ArcMap
View Footprint In:
ArcGIS Online Map Viewer
Service Description: ValPublicWorks/VallottonParkDroneImagery_tif
Name: ValPublicWorks/VallottonParkDroneImagery_tif
Description:
Single Fused Map Cache: false
Extent:
XMin: 282392.02249
YMin: 3415274.0811500004
XMax: 282612.31750999996
YMax: 3415525.7266100002
Spatial Reference: 32617
(32617)
Initial Extent:
XMin: 282392.02249
YMin: 3415274.0811500004
XMax: 282612.31750999996
YMax: 3415525.7266100002
Spatial Reference: 32617
(32617)
Full Extent:
XMin: 282392.02249
YMin: 3415274.0811500004
XMax: 282612.31750999996
YMax: 3415525.7266100002
Spatial Reference: 32617
(32617)
Pixel Size X: 0.009459999999998341
Pixel Size Y: 0.00945999999999233
Band Count: 4
Pixel Type: U8
RasterFunction Infos: {"rasterFunctionInfos": [{
"name": "None",
"description": "",
"help": ""
}]}
Mensuration Capabilities: Basic
Has Histograms: true
Has Colormap: false
Has Multi Dimensions : false
Rendering Rule:
Min Scale: 0
Max Scale: 0
Copyright Text:
Service Data Type: esriImageServiceDataTypeGeneric
Min Values: 1, 1, 1, 255
Max Values: 255, 255, 255, 255
Mean Values: 144.93169238918, 158.89752910784, 115.43148637743, 255
Standard Deviation Values: 46.059971739808, 39.519557241451, 47.023840685244, 0
Object ID Field:
Fields:
None
Default Mosaic Method: Center
Allowed Mosaic Methods:
SortField:
SortValue: null
Mosaic Operator: First
Default Compression Quality: 75
Default Resampling Method: Bilinear
Max Record Count: null
Max Image Height: 4100
Max Image Width: 15000
Max Download Image Count: null
Max Mosaic Image Count: null
Allow Raster Function: true
Allow Compute TiePoints: false
Supports Statistics: false
Supports Advanced Queries: false
Use StandardizedQueries: true
Raster Type Infos:
Name: Raster Dataset
Description: Supports all ArcGIS Raster Datasets
Help:
Has Raster Attribute Table: false
Edit Fields Info: null
Ownership Based AccessControl For Rasters: null
Child Resources:
Info
Histograms
Key Properties
Legend
MultiDimensionalInfo
rasterFunctionInfos
Supported Operations:
Export Image
Identify
Measure
Compute Histograms
Compute Statistics Histograms
Get Samples
Compute Class Statistics
Query Boundary
Compute Pixel Location