{
 "currentVersion": 10.71,
 "serviceDescription": "ValPublicWorks/VallottonParkDroneImagery_tif",
 "name": "ValPublicWorks/VallottonParkDroneImagery_tif",
 "description": "",
 "extent": {
  "xmin": 282392.02249,
  "ymin": 3415274.0811500004,
  "xmax": 282612.31750999996,
  "ymax": 3415525.7266100002,
  "spatialReference": {
   "wkid": 32617,
   "latestWkid": 32617
  }
 },
 "initialExtent": {
  "xmin": 282392.02249,
  "ymin": 3415274.0811500004,
  "xmax": 282612.31750999996,
  "ymax": 3415525.7266100002,
  "spatialReference": {
   "wkid": 32617,
   "latestWkid": 32617
  }
 },
 "fullExtent": {
  "xmin": 282392.02249,
  "ymin": 3415274.0811500004,
  "xmax": 282612.31750999996,
  "ymax": 3415525.7266100002,
  "spatialReference": {
   "wkid": 32617,
   "latestWkid": 32617
  }
 },
 "pixelSizeX": 0.009459999999998341,
 "pixelSizeY": 0.00945999999999233,
 "bandCount": 4,
 "pixelType": "U8",
 "minPixelSize": 0,
 "maxPixelSize": 0,
 "copyrightText": "",
 "serviceDataType": "esriImageServiceDataTypeGeneric",
 "minValues": [
  1,
  1,
  1,
  255
 ],
 "maxValues": [
  255,
  255,
  255,
  255
 ],
 "meanValues": [
  144.93169238918,
  158.89752910784,
  115.43148637743,
  255
 ],
 "stdvValues": [
  46.059971739808,
  39.519557241451,
  47.023840685244,
  0
 ],
 "objectIdField": "",
 "fields": [],
 "capabilities": "Mensuration,Image,Metadata",
 "defaultMosaicMethod": "Center",
 "allowedMosaicMethods": "",
 "sortField": "",
 "sortValue": null,
 "mosaicOperator": "First",
 "defaultCompressionQuality": 75,
 "defaultResamplingMethod": "Bilinear",
 "maxImageHeight": 4100,
 "maxImageWidth": 15000,
 "allowRasterFunction": true,
 "rasterFunctionInfos": [
  {
   "name": "None",
   "description": "",
   "help": ""
  }
 ],
 "rasterTypeInfos": [
  {
   "name": "Raster Dataset",
   "description": "Supports all ArcGIS Raster Datasets",
   "help": ""
  }
 ],
 "mensurationCapabilities": "Basic",
 "hasHistograms": true,
 "hasColormap": false,
 "hasRasterAttributeTable": false,
 "minScale": 0,
 "maxScale": 0,
 "exportTilesAllowed": false,
 "hasMultidimensions": false,
 "supportsStatistics": false,
 "supportsAdvancedQueries": false,
 "editFieldsInfo": null,
 "ownershipBasedAccessControlForRasters": null,
 "allowComputeTiePoints": false,
 "useStandardizedQueries": true,
 "advancedQueryCapabilities": {
  "useStandardizedQueries": true,
  "supportsStatistics": false,
  "supportsOrderBy": false,
  "supportsDistinct": false,
  "supportsPagination": false
 },
 "spatialReference": {
  "wkid": 32617,
  "latestWkid": 32617
 }
}
