View In:
ArcGIS JavaScript
ArcGIS Online Map Viewer
ArcGIS Earth
ArcMap
View Footprint In:
ArcGIS Online Map Viewer
Service Description: SunsetHill/SunsetHill_081622_DroneImagery
Name: SunsetHill/SunsetHill_081622_DroneImagery
Description:
Single Fused Map Cache: false
Extent:
XMin: 280532.65902
YMin: 3414098.66538
XMax: 281258.35003000003
YMax: 3414692.45904
Spatial Reference: 32617
(32617)
Initial Extent:
XMin: 280532.65902
YMin: 3414098.66538
XMax: 281258.35003000003
YMax: 3414692.45904
Spatial Reference: 32617
(32617)
Full Extent:
XMin: 280532.65902
YMin: 3414098.66538
XMax: 281258.35003000003
YMax: 3414692.45904
Spatial Reference: 32617
(32617)
Pixel Size X: 0.015490000000000203
Pixel Size Y: 0.01548999999999913
Band Count: 4
Pixel Type: U8
RasterFunction Infos: {"rasterFunctionInfos": [{
"name": "None",
"description": "",
"help": ""
}]}
Mensuration Capabilities: Basic
Has Histograms: true
Has Colormap: false
Has Multi Dimensions : false
Rendering Rule:
Min Scale: 0
Max Scale: 0
Copyright Text:
Service Data Type: esriImageServiceDataTypeGeneric
Min Values: 0, 0, 0, 0
Max Values: 255, 255, 255, 255
Mean Values: 111.91818025, 122.40755467184, 90.621949667178, 212.11794731639
Standard Deviation Values: 65.700289258222, 65.933925755227, 60.445927491947, 95.373229981464
Object ID Field:
Fields:
None
Default Mosaic Method: Center
Allowed Mosaic Methods:
SortField:
SortValue: null
Mosaic Operator: First
Default Compression Quality: 75
Default Resampling Method: Bilinear
Max Record Count: null
Max Image Height: 4100
Max Image Width: 15000
Max Download Image Count: null
Max Mosaic Image Count: null
Allow Raster Function: true
Allow Compute TiePoints: false
Supports Statistics: false
Supports Advanced Queries: false
Use StandardizedQueries: true
Raster Type Infos:
Name: Raster Dataset
Description: Supports all ArcGIS Raster Datasets
Help:
Has Raster Attribute Table: false
Edit Fields Info: null
Ownership Based AccessControl For Rasters: null
Child Resources:
Info
Histograms
Key Properties
Legend
MultiDimensionalInfo
rasterFunctionInfos
Supported Operations:
Export Image
Identify
Measure
Compute Histograms
Compute Statistics Histograms
Get Samples
Compute Class Statistics
Query Boundary
Compute Pixel Location