View In:
ArcGIS JavaScript
ArcGIS Online Map Viewer
ArcGIS Earth
ArcMap
View Footprint In:
ArcGIS Online Map Viewer
Service Description: PlanningDev/JamesRd_transparent_mosaic_group1_tif
Name: PlanningDev/JamesRd_transparent_mosaic_group1_tif
Description:
Single Fused Map Cache: false
Extent:
XMin: 276811.72136
YMin: 3411262.6572300005
XMax: 276906.03806000005
YMax: 3411459.3071100004
Spatial Reference: 32617
(32617)
Initial Extent:
XMin: 276811.72136
YMin: 3411262.6572300005
XMax: 276906.03806000005
YMax: 3411459.3071100004
Spatial Reference: 32617
(32617)
Full Extent:
XMin: 276811.72136
YMin: 3411262.6572300005
XMax: 276906.03806000005
YMax: 3411459.3071100004
Spatial Reference: 32617
(32617)
Pixel Size X: 0.008790000000002317
Pixel Size Y: 0.008789999999996623
Band Count: 4
Pixel Type: U8
RasterFunction Infos: {"rasterFunctionInfos": [{
"name": "None",
"description": "",
"help": ""
}]}
Mensuration Capabilities: Basic
Has Histograms: true
Has Colormap: false
Has Multi Dimensions : false
Rendering Rule:
Min Scale: 0
Max Scale: 0
Copyright Text:
Service Data Type: esriImageServiceDataTypeGeneric
Min Values: 1, 1, 1, 255
Max Values: 255, 255, 255, 255
Mean Values: 142.69263281988, 139.72082262475, 126.76751829656, 255
Standard Deviation Values: 57.763323272422, 55.409219953687, 52.489423532911, 0
Object ID Field:
Fields:
None
Default Mosaic Method: Center
Allowed Mosaic Methods:
SortField:
SortValue: null
Mosaic Operator: First
Default Compression Quality: 75
Default Resampling Method: Bilinear
Max Record Count: null
Max Image Height: 4100
Max Image Width: 15000
Max Download Image Count: null
Max Mosaic Image Count: null
Allow Raster Function: true
Allow Compute TiePoints: false
Supports Statistics: false
Supports Advanced Queries: false
Use StandardizedQueries: true
Raster Type Infos:
Name: Raster Dataset
Description: Supports all ArcGIS Raster Datasets
Help:
Has Raster Attribute Table: false
Edit Fields Info: null
Ownership Based AccessControl For Rasters: null
Child Resources:
Info
Histograms
Key Properties
Legend
MultiDimensionalInfo
rasterFunctionInfos
Supported Operations:
Export Image
Identify
Measure
Compute Histograms
Compute Statistics Histograms
Get Samples
Compute Class Statistics
Query Boundary
Compute Pixel Location